BEGIN:VCALENDAR
VERSION:2.0
PRODID:-//Asociación Burgos Heavy Metal - ECPv6.15.11//NONSGML v1.0//EN
CALSCALE:GREGORIAN
METHOD:PUBLISH
X-WR-CALNAME:Asociación Burgos Heavy Metal
X-ORIGINAL-URL:https://www.burgosheavymetal.com
X-WR-CALDESC:Eventos para Asociación Burgos Heavy Metal
REFRESH-INTERVAL;VALUE=DURATION:PT1H
X-Robots-Tag:noindex
X-PUBLISHED-TTL:PT1H
BEGIN:VTIMEZONE
TZID:UTC
BEGIN:STANDARD
TZOFFSETFROM:+0000
TZOFFSETTO:+0000
TZNAME:UTC
DTSTART:20250101T000000
END:STANDARD
END:VTIMEZONE
BEGIN:VEVENT
DTSTART;TZID=UTC:20260424T200000
DTEND;TZID=UTC:20260424T230000
DTSTAMP:20260424T014230
CREATED:20260220T132954Z
LAST-MODIFIED:20260220T132954Z
UID:14806-1777060800-1777071600@www.burgosheavymetal.com
SUMMARY:The New Roses
DESCRIPTION:THE NEW ROSES\, 24 de Abril
URL:https://www.burgosheavymetal.com/event/the-new-roses-2/
LOCATION:Sala Andén 56\, C/ San Pedro y San Felices 56\, Burgos\, España
CATEGORIES:Eventos
ATTACH;FMTTYPE=image/jpeg:https://www.burgosheavymetal.com/wp-content/uploads/2026/02/newroses.jpg
END:VEVENT
END:VCALENDAR